BEGIN:VCALENDAR
VERSION:2.0
PRODID:-//TuS Niedernwöhren e.V. - ECPv6.15.20//NONSGML v1.0//EN
CALSCALE:GREGORIAN
METHOD:PUBLISH
X-WR-CALNAME:TuS Niedernwöhren e.V.
X-ORIGINAL-URL:https://www.tusniedernwoehren.de
X-WR-CALDESC:Veranstaltungen für TuS Niedernwöhren e.V.
REFRESH-INTERVAL;VALUE=DURATION:PT1H
X-Robots-Tag:noindex
X-PUBLISHED-TTL:PT1H
BEGIN:VTIMEZONE
TZID:UTC
BEGIN:STANDARD
TZOFFSETFROM:+0000
TZOFFSETTO:+0000
TZNAME:UTC
DTSTART:20220101T000000
END:STANDARD
END:VTIMEZONE
BEGIN:VEVENT
DTSTART;TZID=UTC:20231107T193000
DTEND;TZID=UTC:20231107T203000
DTSTAMP:20260424T153215
CREATED:20230913T073136Z
LAST-MODIFIED:20230913T073136Z
UID:1189-1699385400-1699389000@www.tusniedernwoehren.de
SUMMARY:START AEROBIC-SPECIAL"Bodyworkout mit Nina"
DESCRIPTION:
URL:https://www.tusniedernwoehren.de/event/start-aerobic-specialbodyworkout-mit-nina/
END:VEVENT
END:VCALENDAR