BEGIN:VCALENDAR
VERSION:2.0
PRODID:-//TuS Niedernwöhren e.V. - ECPv6.15.20//NONSGML v1.0//EN
CALSCALE:GREGORIAN
METHOD:PUBLISH
X-ORIGINAL-URL:https://www.tusniedernwoehren.de
X-WR-CALDESC:Veranstaltungen für TuS Niedernwöhren e.V.
REFRESH-INTERVAL;VALUE=DURATION:PT1H
X-Robots-Tag:noindex
X-PUBLISHED-TTL:PT1H
BEGIN:VTIMEZONE
TZID:UTC
BEGIN:STANDARD
TZOFFSETFROM:+0000
TZOFFSETTO:+0000
TZNAME:UTC
DTSTART:20230101T000000
END:STANDARD
END:VTIMEZONE
BEGIN:VEVENT
DTSTART;TZID=UTC:20240324T150000
DTEND;TZID=UTC:20240324T170000
DTSTAMP:20260420T114023
CREATED:20240117T195831Z
LAST-MODIFIED:20240117T200514Z
UID:1583-1711292400-1711299600@www.tusniedernwoehren.de
SUMMARY:Kreisliga TuS 1.Herren - SV Obernkirchen
DESCRIPTION:
URL:https://www.tusniedernwoehren.de/event/kreisliga-tus-1-herren-sv-obernkirchen/
END:VEVENT
END:VCALENDAR