BEGIN:VCALENDAR
VERSION:2.0
PRODID:-//TuS Niedernwöhren e.V. - ECPv6.15.20//NONSGML v1.0//EN
CALSCALE:GREGORIAN
METHOD:PUBLISH
X-WR-CALNAME:TuS Niedernwöhren e.V.
X-ORIGINAL-URL:https://www.tusniedernwoehren.de
X-WR-CALDESC:Veranstaltungen für TuS Niedernwöhren e.V.
REFRESH-INTERVAL;VALUE=DURATION:PT1H
X-Robots-Tag:noindex
X-PUBLISHED-TTL:PT1H
BEGIN:VTIMEZONE
TZID:UTC
BEGIN:STANDARD
TZOFFSETFROM:+0000
TZOFFSETTO:+0000
TZNAME:UTC
DTSTART:20230101T000000
END:STANDARD
END:VTIMEZONE
BEGIN:VEVENT
DTSTART;TZID=UTC:20240409T193000
DTEND;TZID=UTC:20240409T213000
DTSTAMP:20260420T095024
CREATED:20240117T201306Z
LAST-MODIFIED:20240117T201306Z
UID:1593-1712691000-1712698200@www.tusniedernwoehren.de
SUMMARY:Kreisliga 1. Herren - TuS Jahn Lindhorst
DESCRIPTION:
URL:https://www.tusniedernwoehren.de/event/kreisliga-1-herren-tus-jahn-lindhorst/
END:VEVENT
END:VCALENDAR