BEGIN:VCALENDAR
VERSION:2.0
PRODID:-//TuS Niedernwöhren e.V. - ECPv6.15.20//NONSGML v1.0//EN
CALSCALE:GREGORIAN
METHOD:PUBLISH
X-WR-CALNAME:TuS Niedernwöhren e.V.
X-ORIGINAL-URL:https://www.tusniedernwoehren.de
X-WR-CALDESC:Veranstaltungen für TuS Niedernwöhren e.V.
REFRESH-INTERVAL;VALUE=DURATION:PT1H
X-Robots-Tag:noindex
X-PUBLISHED-TTL:PT1H
BEGIN:VTIMEZONE
TZID:UTC
BEGIN:STANDARD
TZOFFSETFROM:+0000
TZOFFSETTO:+0000
TZNAME:UTC
DTSTART:20230101T000000
END:STANDARD
END:VTIMEZONE
BEGIN:VEVENT
DTSTART;TZID=UTC:20240423T193000
DTEND;TZID=UTC:20240423T210000
DTSTAMP:20260420T094247
CREATED:20240417T115752Z
LAST-MODIFIED:20240417T115752Z
UID:1868-1713900600-1713906000@www.tusniedernwoehren.de
SUMMARY:2. Herren - SV Obernkirchen II (Halbfinale im Kreispokal)
DESCRIPTION:
URL:https://www.tusniedernwoehren.de/event/2-herren-sv-obernkirchen-ii-halbfinale-im-kreispokal/
LOCATION:Sportplatz Wiedensahl
END:VEVENT
END:VCALENDAR