BEGIN:VCALENDAR
VERSION:2.0
PRODID:-//TuS Niedernwöhren e.V. - ECPv6.15.20//NONSGML v1.0//EN
CALSCALE:GREGORIAN
METHOD:PUBLISH
X-ORIGINAL-URL:https://www.tusniedernwoehren.de
X-WR-CALDESC:Veranstaltungen für TuS Niedernwöhren e.V.
REFRESH-INTERVAL;VALUE=DURATION:PT1H
X-Robots-Tag:noindex
X-PUBLISHED-TTL:PT1H
BEGIN:VTIMEZONE
TZID:UTC
BEGIN:STANDARD
TZOFFSETFROM:+0000
TZOFFSETTO:+0000
TZNAME:UTC
DTSTART:20230101T000000
END:STANDARD
END:VTIMEZONE
BEGIN:VEVENT
DTSTART;TZID=UTC:20240430T193000
DTEND;TZID=UTC:20240430T213000
DTSTAMP:20260420T074501
CREATED:20240417T062056Z
LAST-MODIFIED:20240417T062056Z
UID:1857-1714505400-1714512600@www.tusniedernwoehren.de
SUMMARY:TuS 1. Herren - TuS Jahn Lindhorst
DESCRIPTION:
URL:https://www.tusniedernwoehren.de/event/tus-1-herren-tus-jahn-lindhorst/
LOCATION:Sportplatz Wiedensahl\, Hauptstraße\, Sportplatz Wiedensahl
END:VEVENT
END:VCALENDAR