BEGIN:VCALENDAR
VERSION:2.0
PRODID:-//TuS Niedernwöhren e.V. - ECPv6.15.20//NONSGML v1.0//EN
CALSCALE:GREGORIAN
METHOD:PUBLISH
X-ORIGINAL-URL:https://www.tusniedernwoehren.de
X-WR-CALDESC:Veranstaltungen für TuS Niedernwöhren e.V.
REFRESH-INTERVAL;VALUE=DURATION:PT1H
X-Robots-Tag:noindex
X-PUBLISHED-TTL:PT1H
BEGIN:VTIMEZONE
TZID:UTC
BEGIN:STANDARD
TZOFFSETFROM:+0000
TZOFFSETTO:+0000
TZNAME:UTC
DTSTART:20230101T000000
END:STANDARD
END:VTIMEZONE
BEGIN:VEVENT
DTSTART;TZID=UTC:20240926T193000
DTEND;TZID=UTC:20240926T193000
DTSTAMP:20260420T012136
CREATED:20240805T092822Z
LAST-MODIFIED:20240828T091331Z
UID:2127-1727379000-1727379000@www.tusniedernwoehren.de
SUMMARY:TuS Niedernwöhren I - TuS Germania Apelern
DESCRIPTION:
URL:https://www.tusniedernwoehren.de/event/tus-niedernwoehren-i-tus-germania-apelern/
LOCATION:Sportplatz Wiedensahl\, Hauptstraße\, Sportplatz Wiedensahl
END:VEVENT
END:VCALENDAR