BEGIN:VCALENDAR
VERSION:2.0
PRODID:-//TuS Niedernwöhren e.V. - ECPv6.15.20//NONSGML v1.0//EN
CALSCALE:GREGORIAN
METHOD:PUBLISH
X-WR-CALNAME:TuS Niedernwöhren e.V.
X-ORIGINAL-URL:https://www.tusniedernwoehren.de
X-WR-CALDESC:Veranstaltungen für TuS Niedernwöhren e.V.
REFRESH-INTERVAL;VALUE=DURATION:PT1H
X-Robots-Tag:noindex
X-PUBLISHED-TTL:PT1H
BEGIN:VTIMEZONE
TZID:UTC
BEGIN:STANDARD
TZOFFSETFROM:+0000
TZOFFSETTO:+0000
TZNAME:UTC
DTSTART:20230101T000000
END:STANDARD
END:VTIMEZONE
BEGIN:VEVENT
DTSTART;TZID=UTC:20241007T080000
DTEND;TZID=UTC:20241115T170000
DTSTAMP:20260419T220020
CREATED:20241007T065209Z
LAST-MODIFIED:20241007T065209Z
UID:2259-1728288000-1731690000@www.tusniedernwoehren.de
SUMMARY:Anmeldung zum Preisdoppelkopf und Kniffel-Turnier
DESCRIPTION:Aufgrund begrenzter Teilnehmerzahl ist eine verbindliche Anmeldung bis zum 15. November 2024\nerforderlich! \nPer E-Mail an Frank Fahlbusch (frank.fahlbusch@t-online.de)\, Telefon: 05721 922711\noder persönlich bei Günter Fließ\, Telefon: 05726 550 oder Egon Hermann
URL:https://www.tusniedernwoehren.de/event/anmeldung-zum-preisdoppelkopf-und-kniffel-turnier/
LOCATION:Sportheim Niedernwöhren\, Sportplatzstraße 8\, Niedernwöhren\, 31712
END:VEVENT
END:VCALENDAR