BEGIN:VCALENDAR
VERSION:2.0
PRODID:-//TuS Niedernwöhren e.V. - ECPv6.15.20//NONSGML v1.0//EN
CALSCALE:GREGORIAN
METHOD:PUBLISH
X-WR-CALNAME:TuS Niedernwöhren e.V.
X-ORIGINAL-URL:https://www.tusniedernwoehren.de
X-WR-CALDESC:Veranstaltungen für TuS Niedernwöhren e.V.
REFRESH-INTERVAL;VALUE=DURATION:PT1H
X-Robots-Tag:noindex
X-PUBLISHED-TTL:PT1H
BEGIN:VTIMEZONE
TZID:UTC
BEGIN:STANDARD
TZOFFSETFROM:+0000
TZOFFSETTO:+0000
TZNAME:UTC
DTSTART:20230101T000000
END:STANDARD
END:VTIMEZONE
BEGIN:VEVENT
DTSTART;TZID=UTC:20241031T080000
DTEND;TZID=UTC:20241231T170000
DTSTAMP:20260419T220159
CREATED:20240924T080604Z
LAST-MODIFIED:20240924T080644Z
UID:2208-1730361600-1735664400@www.tusniedernwoehren.de
SUMMARY:ANMELDUNG WOOGE 2025
DESCRIPTION:https://www.wooge-shg.de
URL:https://www.tusniedernwoehren.de/event/anmeldung-wooge-2025/
END:VEVENT
END:VCALENDAR