BEGIN:VCALENDAR
VERSION:2.0
PRODID:-//TuS Niedernwöhren e.V. - ECPv6.15.20//NONSGML v1.0//EN
CALSCALE:GREGORIAN
METHOD:PUBLISH
X-WR-CALNAME:TuS Niedernwöhren e.V.
X-ORIGINAL-URL:https://www.tusniedernwoehren.de
X-WR-CALDESC:Veranstaltungen für TuS Niedernwöhren e.V.
REFRESH-INTERVAL;VALUE=DURATION:PT1H
X-Robots-Tag:noindex
X-PUBLISHED-TTL:PT1H
BEGIN:VTIMEZONE
TZID:UTC
BEGIN:STANDARD
TZOFFSETFROM:+0000
TZOFFSETTO:+0000
TZNAME:UTC
DTSTART:20220101T000000
END:STANDARD
END:VTIMEZONE
BEGIN:VEVENT
DTSTART;TZID=UTC:20230809T193000
DTEND;TZID=UTC:20230809T213000
DTSTAMP:20260424T183039
CREATED:20230808T194032Z
LAST-MODIFIED:20230809T065312Z
UID:1055-1691609400-1691616600@www.tusniedernwoehren.de
SUMMARY:Fussball 1. Herren TuS Niedernwöhren - VfL Bückeburg(Sportplatz Wiedensahl!)
DESCRIPTION:
URL:https://www.tusniedernwoehren.de/event/fussball-1-herren-tus-niedernwoehren-vfl-bueckeburg/
END:VEVENT
BEGIN:VEVENT
DTSTART;TZID=UTC:20230813T150000
DTEND;TZID=UTC:20230813T150000
DTSTAMP:20260424T183039
CREATED:20230801T190031Z
LAST-MODIFIED:20230810T065434Z
UID:972-1691938800-1691938800@www.tusniedernwoehren.de
SUMMARY:KREISLIGASPIELTAG TuS Niedernwöhren - TSV Hagenburg
DESCRIPTION:  \n 
URL:https://www.tusniedernwoehren.de/event/kreisligaspieltag-tus-ndw-tsv-hagenburg/
LOCATION:Sportplatz Wiedensahl\, Hauptstraße\, Sportplatz Wiedensahl
END:VEVENT
BEGIN:VEVENT
DTSTART;TZID=UTC:20230814T183000
DTEND;TZID=UTC:20230814T193000
DTSTAMP:20260424T183039
CREATED:20230619T085641Z
LAST-MODIFIED:20230619T085641Z
UID:737-1692037800-1692041400@www.tusniedernwoehren.de
SUMMARY:Sportabzeichen - Abnahme
DESCRIPTION:Sportplatz “Am Beerbusch” Niedernwöhren:\nAnsprechperson: Stefan Köpper
URL:https://www.tusniedernwoehren.de/event/sportabzeichen-abnahme-2/
END:VEVENT
BEGIN:VEVENT
DTSTART;TZID=UTC:20230821T180000
DTEND;TZID=UTC:20230821T184500
DTSTAMP:20260424T183039
CREATED:20230619T074331Z
LAST-MODIFIED:20230801T171927Z
UID:712-1692640800-1692643500@www.tusniedernwoehren.de
SUMMARY:Start TuS Special "HIT-Training"
DESCRIPTION:Infos: Melanie Bolenz\, Tel.: (05721) 9333793\, Anmeldung: tus-special@web.de \n \n 
URL:https://www.tusniedernwoehren.de/event/aerobic-specials/
END:VEVENT
BEGIN:VEVENT
DTSTART;TZID=UTC:20230827T150000
DTEND;TZID=UTC:20230827T150000
DTSTAMP:20260424T183039
CREATED:20230818T104121Z
LAST-MODIFIED:20230818T104310Z
UID:1143-1693148400-1693148400@www.tusniedernwoehren.de
SUMMARY:KREISLIGASPIELTAG TuS Niedernwöhren - SC Auetal
DESCRIPTION:
URL:https://www.tusniedernwoehren.de/event/fussball-1-herren-tus-niedernwoehren-sc-auetal/
LOCATION:Sportplatz Wiedensahl\, Hauptstraße\, Sportplatz Wiedensahl
END:VEVENT
END:VCALENDAR