BEGIN:VCALENDAR
VERSION:2.0
PRODID:-//TuS Niedernwöhren e.V. - ECPv6.15.20//NONSGML v1.0//EN
CALSCALE:GREGORIAN
METHOD:PUBLISH
X-ORIGINAL-URL:https://www.tusniedernwoehren.de
X-WR-CALDESC:Veranstaltungen für TuS Niedernwöhren e.V.
REFRESH-INTERVAL;VALUE=DURATION:PT1H
X-Robots-Tag:noindex
X-PUBLISHED-TTL:PT1H
BEGIN:VTIMEZONE
TZID:UTC
BEGIN:STANDARD
TZOFFSETFROM:+0000
TZOFFSETTO:+0000
TZNAME:UTC
DTSTART:20230101T000000
END:STANDARD
END:VTIMEZONE
BEGIN:VEVENT
DTSTART;TZID=UTC:20240208T193000
DTEND;TZID=UTC:20240208T213000
DTSTAMP:20260424T095924
CREATED:20240117T201519Z
LAST-MODIFIED:20240117T201519Z
UID:1595-1707420600-1707427800@www.tusniedernwoehren.de
SUMMARY:Freundschaftsspiel TuS 1. Herren - VfL Münchehagen
DESCRIPTION:
URL:https://www.tusniedernwoehren.de/event/freundschaftsspiel-tus-1-herren-vfl-muenchehagen/
END:VEVENT
BEGIN:VEVENT
DTSTART;TZID=UTC:20240216T180000
DTEND;TZID=UTC:20240216T190000
DTSTAMP:20260424T095924
CREATED:20240130T130757Z
LAST-MODIFIED:20240130T130757Z
UID:1742-1708106400-1708110000@www.tusniedernwoehren.de
SUMMARY:Verleihung Sportabzeichen
DESCRIPTION:
URL:https://www.tusniedernwoehren.de/event/verleihung-sportabzeichen/
LOCATION:Aula der Grundschule Niedernwöhren\, Niedernwöhren\, 31712
END:VEVENT
BEGIN:VEVENT
DTSTART;TZID=UTC:20240228T190000
DTEND;TZID=UTC:20240228T210000
DTSTAMP:20260424T095924
CREATED:20240117T201814Z
LAST-MODIFIED:20240117T201814Z
UID:1597-1709146800-1709154000@www.tusniedernwoehren.de
SUMMARY:Freundschaftsspiel: SG Klein Berkel/Königsförde II - TuS 1. Herren
DESCRIPTION:
URL:https://www.tusniedernwoehren.de/event/freundschaftsspiel-sg-klein-berkel-koenigsfoerde-ii-tus-1-herren/
END:VEVENT
END:VCALENDAR