BEGIN:VCALENDAR
VERSION:2.0
PRODID:-//TuS Niedernwöhren e.V. - ECPv6.15.20//NONSGML v1.0//EN
CALSCALE:GREGORIAN
METHOD:PUBLISH
X-ORIGINAL-URL:https://www.tusniedernwoehren.de
X-WR-CALDESC:Veranstaltungen für TuS Niedernwöhren e.V.
REFRESH-INTERVAL;VALUE=DURATION:PT1H
X-Robots-Tag:noindex
X-PUBLISHED-TTL:PT1H
BEGIN:VTIMEZONE
TZID:UTC
BEGIN:STANDARD
TZOFFSETFROM:+0000
TZOFFSETTO:+0000
TZNAME:UTC
DTSTART:20230101T000000
END:STANDARD
END:VTIMEZONE
BEGIN:VEVENT
DTSTART;TZID=UTC:20240505T150000
DTEND;TZID=UTC:20240505T170000
DTSTAMP:20260420T061159
CREATED:20240417T062146Z
LAST-MODIFIED:20240417T062146Z
UID:1859-1714921200-1714928400@www.tusniedernwoehren.de
SUMMARY:TuS 1. Herren - SG Engern
DESCRIPTION:
URL:https://www.tusniedernwoehren.de/event/tus-1-herren-sg-engern/
LOCATION:Sportplatz Wiedensahl\, Hauptstraße\, Sportplatz Wiedensahl
END:VEVENT
BEGIN:VEVENT
DTSTART;TZID=UTC:20240513T183000
DTEND;TZID=UTC:20240513T193000
DTSTAMP:20260420T061159
CREATED:20231226T155305Z
LAST-MODIFIED:20231226T155305Z
UID:1501-1715625000-1715628600@www.tusniedernwoehren.de
SUMMARY:Sportabzeichen - Abnahme
DESCRIPTION:
URL:https://www.tusniedernwoehren.de/event/sportabzeichen-abnahme-4/
LOCATION:Sportplatz Wiedensahl\, Hauptstraße\, Sportplatz Wiedensahl
END:VEVENT
BEGIN:VEVENT
DTSTART;VALUE=DATE:20240520
DTEND;VALUE=DATE:20240521
DTSTAMP:20260420T061159
CREATED:20240417T062320Z
LAST-MODIFIED:20240417T062320Z
UID:1861-1716163200-1716249599@www.tusniedernwoehren.de
SUMMARY:Kreispokal-Endrunde der Ü40 Mannschaften
DESCRIPTION:ab 11.00 Uhr \nab 15.00 Uhr Kreispokalendrunde der unteren Mannschaften
URL:https://www.tusniedernwoehren.de/event/kreispokal-endrunde-der-ue40-mannschaften/
END:VEVENT
BEGIN:VEVENT
DTSTART;VALUE=DATE:20240526
DTEND;VALUE=DATE:20240527
DTSTAMP:20260420T061159
CREATED:20240510T064855Z
LAST-MODIFIED:20240510T064855Z
UID:1898-1716681600-1716767999@www.tusniedernwoehren.de
SUMMARY:Leichtathletik: Rintelner Volksbanklauf (Schaumburger Laufserie)
DESCRIPTION:
URL:https://www.tusniedernwoehren.de/event/leichtathletik-rintelner-volksbanklauf-schaumburger-laufserie/
END:VEVENT
END:VCALENDAR