BEGIN:VCALENDAR
VERSION:2.0
PRODID:-//TuS Niedernwöhren e.V. - ECPv6.15.20//NONSGML v1.0//EN
CALSCALE:GREGORIAN
METHOD:PUBLISH
X-WR-CALNAME:TuS Niedernwöhren e.V.
X-ORIGINAL-URL:https://www.tusniedernwoehren.de
X-WR-CALDESC:Veranstaltungen für TuS Niedernwöhren e.V.
REFRESH-INTERVAL;VALUE=DURATION:PT1H
X-Robots-Tag:noindex
X-PUBLISHED-TTL:PT1H
BEGIN:VTIMEZONE
TZID:UTC
BEGIN:STANDARD
TZOFFSETFROM:+0000
TZOFFSETTO:+0000
TZNAME:UTC
DTSTART:20230101T000000
END:STANDARD
END:VTIMEZONE
BEGIN:VEVENT
DTSTART;TZID=UTC:20240601T110000
DTEND;TZID=UTC:20240601T110000
DTSTAMP:20260420T043649
CREATED:20240510T062729Z
LAST-MODIFIED:20240510T063434Z
UID:1886-1717239600-1717239600@www.tusniedernwoehren.de
SUMMARY:Leichtathlethik: Kreismeisterschaften Teil 1
DESCRIPTION:Stadthagen
URL:https://www.tusniedernwoehren.de/event/leichtathlethik-kreismeisterschaften-teil-1/
LOCATION:Stadthage
END:VEVENT
BEGIN:VEVENT
DTSTART;TZID=UTC:20240603T183000
DTEND;TZID=UTC:20240603T193000
DTSTAMP:20260420T043649
CREATED:20231226T155421Z
LAST-MODIFIED:20231226T155421Z
UID:1503-1717439400-1717443000@www.tusniedernwoehren.de
SUMMARY:Sportabzeichen - Abnahme
DESCRIPTION:
URL:https://www.tusniedernwoehren.de/event/sportabzeichen-abnahme-5/
LOCATION:Sportplatz Wiedensahl\, Hauptstraße\, Sportplatz Wiedensahl
END:VEVENT
BEGIN:VEVENT
DTSTART;VALUE=DATE:20240608
DTEND;VALUE=DATE:20240609
DTSTAMP:20260420T043649
CREATED:20240510T065122Z
LAST-MODIFIED:20240510T065122Z
UID:1900-1717804800-1717891199@www.tusniedernwoehren.de
SUMMARY:Leichtathletik: Bad Nenndorfer Kurparklauf (Schaumburger Laufserie)
DESCRIPTION:Leichtathletik:
URL:https://www.tusniedernwoehren.de/event/leichtathletik-bad-nenndorfer-kurparklauf-schaumburger-laufserie/
END:VEVENT
BEGIN:VEVENT
DTSTART;TZID=UTC:20240610T183000
DTEND;TZID=UTC:20240610T193000
DTSTAMP:20260420T043649
CREATED:20231226T160657Z
LAST-MODIFIED:20231226T160721Z
UID:1519-1718044200-1718047800@www.tusniedernwoehren.de
SUMMARY:Sportabzeichen - Abnahme
DESCRIPTION:
URL:https://www.tusniedernwoehren.de/event/sporrtabzeichen-abnahme/
LOCATION:Sportplatz Wiedensahl\, Hauptstraße\, Sportplatz Wiedensahl
END:VEVENT
BEGIN:VEVENT
DTSTART;TZID=UTC:20240614T170000
DTEND;TZID=UTC:20240614T190000
DTSTAMP:20260420T043649
CREATED:20240510T062932Z
LAST-MODIFIED:20240510T062932Z
UID:1889-1718384400-1718391600@www.tusniedernwoehren.de
SUMMARY:Leichtathletik: Laufabend
DESCRIPTION:
URL:https://www.tusniedernwoehren.de/event/leichtathletik-laufabend/
END:VEVENT
BEGIN:VEVENT
DTSTART;VALUE=DATE:20240616
DTEND;VALUE=DATE:20240617
DTSTAMP:20260420T043649
CREATED:20240510T065606Z
LAST-MODIFIED:20240518T053149Z
UID:1904-1718496000-1718582399@www.tusniedernwoehren.de
SUMMARY:Leichtathletik: Ohndorfer Volkslauf (Schaumburger Laufserie)
DESCRIPTION:
URL:https://www.tusniedernwoehren.de/event/leichtathletik-ohndorfer-volkslauf-schaumburger-laufserie/
END:VEVENT
BEGIN:VEVENT
DTSTART;TZID=UTC:20240617T170000
DTEND;TZID=UTC:20240617T193000
DTSTAMP:20260420T043649
CREATED:20231226T155649Z
LAST-MODIFIED:20240527T120934Z
UID:1507-1718643600-1718652600@www.tusniedernwoehren.de
SUMMARY:Familien-Sportabzeichen-Tag
DESCRIPTION:
URL:https://www.tusniedernwoehren.de/event/familien-sportabzeichen-tag/
LOCATION:Sportplatz Wiedensahl\, Hauptstraße\, Sportplatz Wiedensahl
END:VEVENT
END:VCALENDAR