BEGIN:VCALENDAR
VERSION:2.0
PRODID:-//TuS Niedernwöhren e.V. - ECPv6.15.20//NONSGML v1.0//EN
CALSCALE:GREGORIAN
METHOD:PUBLISH
X-ORIGINAL-URL:https://www.tusniedernwoehren.de
X-WR-CALDESC:Veranstaltungen für TuS Niedernwöhren e.V.
REFRESH-INTERVAL;VALUE=DURATION:PT1H
X-Robots-Tag:noindex
X-PUBLISHED-TTL:PT1H
BEGIN:VTIMEZONE
TZID:UTC
BEGIN:STANDARD
TZOFFSETFROM:+0000
TZOFFSETTO:+0000
TZNAME:UTC
DTSTART:20230101T000000
END:STANDARD
END:VTIMEZONE
BEGIN:VEVENT
DTSTART;TZID=UTC:20240905T193000
DTEND;TZID=UTC:20240905T193000
DTSTAMP:20260419T235251
CREATED:20240828T090815Z
LAST-MODIFIED:20240828T091020Z
UID:2164-1725564600-1725564600@www.tusniedernwoehren.de
SUMMARY:TuS Niedernwöhren 1 - TuS Jahn Lindhorst
DESCRIPTION:
URL:https://www.tusniedernwoehren.de/event/tus-niedernwoehren-1-tus-jahn-lindhorst/
LOCATION:Sportplatz Wiedensahl\, Hauptstraße\, Sportplatz Wiedensahl
END:VEVENT
BEGIN:VEVENT
DTSTART;TZID=UTC:20240907T110000
DTEND;TZID=UTC:20240907T170000
DTSTAMP:20260419T235251
CREATED:20240510T063240Z
LAST-MODIFIED:20240510T063240Z
UID:1893-1725706800-1725728400@www.tusniedernwoehren.de
SUMMARY:Leichtathletik: Kreismeisterschaften Teil 2
DESCRIPTION:
URL:https://www.tusniedernwoehren.de/event/leichtathletik-kreismeisterschaften-teil-2/
END:VEVENT
BEGIN:VEVENT
DTSTART;TZID=UTC:20240908T150000
DTEND;TZID=UTC:20240908T150000
DTSTAMP:20260419T235251
CREATED:20240805T092659Z
LAST-MODIFIED:20240828T091206Z
UID:2123-1725807600-1725807600@www.tusniedernwoehren.de
SUMMARY:TuS Niedernwöhren I - SV Victoria Lauenau
DESCRIPTION:
URL:https://www.tusniedernwoehren.de/event/tus-niedernwoehren-i-sv-victoria-lauenau/
LOCATION:Sportplatz Wiedensahl\, Hauptstraße\, Sportplatz Wiedensahl
END:VEVENT
BEGIN:VEVENT
DTSTART;TZID=UTC:20240916T183000
DTEND;TZID=UTC:20240916T193000
DTSTAMP:20260419T235251
CREATED:20231226T160012Z
LAST-MODIFIED:20231226T160424Z
UID:1514-1726511400-1726515000@www.tusniedernwoehren.de
SUMMARY:Sportabzeichen - Abnahme
DESCRIPTION:
URL:https://www.tusniedernwoehren.de/event/sportabzeichen-abnahme-9/
LOCATION:Sportplatz Wiedensahl\, Hauptstraße\, Sportplatz Wiedensahl
END:VEVENT
BEGIN:VEVENT
DTSTART;TZID=UTC:20240920T170000
DTEND;TZID=UTC:20240920T170000
DTSTAMP:20260419T235251
CREATED:20240903T113705Z
LAST-MODIFIED:20240903T113921Z
UID:2171-1726851600-1726851600@www.tusniedernwoehren.de
SUMMARY:Platzpflege Beerbusch
DESCRIPTION:
URL:https://www.tusniedernwoehren.de/event/platzpflege-beerbusch/
LOCATION:Sportplatz Wiedensahl\, Hauptstraße\, Sportplatz Wiedensahl
END:VEVENT
BEGIN:VEVENT
DTSTART;TZID=UTC:20240922T150000
DTEND;TZID=UTC:20240922T150000
DTSTAMP:20260419T235251
CREATED:20240805T092741Z
LAST-MODIFIED:20240828T091235Z
UID:2125-1727017200-1727017200@www.tusniedernwoehren.de
SUMMARY:TuS Niedernwöhren I - TuS Lüdersfeld II
DESCRIPTION:
URL:https://www.tusniedernwoehren.de/event/tus-niedernwoehren-i-tus-luedersfeld-ii/
LOCATION:Sportplatz Wiedensahl\, Hauptstraße\, Sportplatz Wiedensahl
END:VEVENT
BEGIN:VEVENT
DTSTART;TZID=UTC:20240923T183000
DTEND;TZID=UTC:20240923T193000
DTSTAMP:20260419T235251
CREATED:20231226T160111Z
LAST-MODIFIED:20231226T160111Z
UID:1516-1727116200-1727119800@www.tusniedernwoehren.de
SUMMARY:Sportabzeichen - Abnahme
DESCRIPTION:
URL:https://www.tusniedernwoehren.de/event/sportabzeichen-abnahme-10/
LOCATION:Sportplatz Wiedensahl\, Hauptstraße\, Sportplatz Wiedensahl
END:VEVENT
BEGIN:VEVENT
DTSTART;TZID=UTC:20240926T193000
DTEND;TZID=UTC:20240926T193000
DTSTAMP:20260419T235251
CREATED:20240805T092822Z
LAST-MODIFIED:20240828T091331Z
UID:2127-1727379000-1727379000@www.tusniedernwoehren.de
SUMMARY:TuS Niedernwöhren I - TuS Germania Apelern
DESCRIPTION:
URL:https://www.tusniedernwoehren.de/event/tus-niedernwoehren-i-tus-germania-apelern/
LOCATION:Sportplatz Wiedensahl\, Hauptstraße\, Sportplatz Wiedensahl
END:VEVENT
BEGIN:VEVENT
DTSTART;TZID=UTC:20240928T090000
DTEND;TZID=UTC:20240928T090000
DTSTAMP:20260419T235251
CREATED:20240903T113751Z
LAST-MODIFIED:20240903T113957Z
UID:2173-1727514000-1727514000@www.tusniedernwoehren.de
SUMMARY:Platzpflege am Beerbusch
DESCRIPTION:
URL:https://www.tusniedernwoehren.de/event/platzpflege-am-beerbusch/
LOCATION:Sportplatz Wiedensahl\, Hauptstraße\, Sportplatz Wiedensahl
END:VEVENT
BEGIN:VEVENT
DTSTART;TZID=UTC:20240928T110000
DTEND;TZID=UTC:20240928T170000
DTSTAMP:20260419T235251
CREATED:20240510T063335Z
LAST-MODIFIED:20240510T063335Z
UID:1895-1727521200-1727542800@www.tusniedernwoehren.de
SUMMARY:Leichtathletik: Lauf- und Werfertag
DESCRIPTION:
URL:https://www.tusniedernwoehren.de/event/leichtathletik-lauf-und-werfertag/
END:VEVENT
BEGIN:VEVENT
DTSTART;TZID=UTC:20240929T150000
DTEND;TZID=UTC:20240929T150000
DTSTAMP:20260419T235251
CREATED:20240805T092914Z
LAST-MODIFIED:20240805T093304Z
UID:2129-1727622000-1727622000@www.tusniedernwoehren.de
SUMMARY:TuS Niedernwöhren I - SV 45 Krainhagen-Röhrkasten
DESCRIPTION:
URL:https://www.tusniedernwoehren.de/event/tus-niedernwoehren-i-sv-45-krainhagen-roehrkasten/
LOCATION:Sportplatz Wiedensahl\, Hauptstraße\, Sportplatz Wiedensahl
END:VEVENT
END:VCALENDAR