BEGIN:VCALENDAR
VERSION:2.0
PRODID:-//TuS Niedernwöhren e.V. - ECPv6.15.20//NONSGML v1.0//EN
CALSCALE:GREGORIAN
METHOD:PUBLISH
X-WR-CALNAME:TuS Niedernwöhren e.V.
X-ORIGINAL-URL:https://www.tusniedernwoehren.de
X-WR-CALDESC:Veranstaltungen für TuS Niedernwöhren e.V.
REFRESH-INTERVAL;VALUE=DURATION:PT1H
X-Robots-Tag:noindex
X-PUBLISHED-TTL:PT1H
BEGIN:VTIMEZONE
TZID:UTC
BEGIN:STANDARD
TZOFFSETFROM:+0000
TZOFFSETTO:+0000
TZNAME:UTC
DTSTART:20220101T000000
END:STANDARD
END:VTIMEZONE
BEGIN:VEVENT
DTSTART;TZID=UTC:20230626T170000
DTEND;TZID=UTC:20230626T193000
DTSTAMP:20260424T131907
CREATED:20230619T072502Z
LAST-MODIFIED:20230619T081851Z
UID:702-1687798800-1687807800@www.tusniedernwoehren.de
SUMMARY:Familien-Sportabzeichen
DESCRIPTION:Ansprechperson:\nStefan Köpper\,\nTelefon: 05721/923423\,\nE-Mail: stefan-koepper@gmx.net \nInformationen zum Sportabzeichen für Erwachsene und Kinder\nLink zum DSB \nWeitere Termine zur Sportabzeichen-Abnahme finden Sie hier.
URL:https://www.tusniedernwoehren.de/event/sportabzeichentag/
LOCATION:Sportplatz Wiedensahl\, Hauptstraße\, Sportplatz Wiedensahl
END:VEVENT
END:VCALENDAR